BEGIN:VCALENDAR
VERSION:2.0
PRODID:-//Ripley Women&#039;s Club - ECPv6.15.20//NONSGML v1.0//EN
CALSCALE:GREGORIAN
METHOD:PUBLISH
X-WR-CALNAME:Ripley Women&#039;s Club
X-ORIGINAL-URL:https://ripleyohiowc.com
X-WR-CALDESC:Events for Ripley Women&#039;s Club
REFRESH-INTERVAL;VALUE=DURATION:PT1H
X-Robots-Tag:noindex
X-PUBLISHED-TTL:PT1H
BEGIN:VTIMEZONE
TZID:UTC
BEGIN:STANDARD
TZOFFSETFROM:+0000
TZOFFSETTO:+0000
TZNAME:UTC
DTSTART:20160101T000000
END:STANDARD
END:VTIMEZONE
BEGIN:VEVENT
DTSTART;TZID=UTC:20220225T190000
DTEND;TZID=UTC:20220225T230000
DTSTAMP:20260423T180037
CREATED:20220220T005549Z
LAST-MODIFIED:20220220T010640Z
UID:942-1645815600-1645830000@ripleyohiowc.com
SUMMARY:2022 Quarter Craze - February 25\, 2022
DESCRIPTION:FRIDAY\, FEBRUARY 25\, 2022 AT 7 PM\n\n\nRWC Cabin Fever Quarter Craze\n\nAmerican Legion Post #367
URL:https://ripleyohiowc.com/event/2022-quarter-craze-february-25-2022/
CATEGORIES:Womens Club Event
END:VEVENT
BEGIN:VEVENT
DTSTART;TZID=UTC:20171117T180000
DTEND;TZID=UTC:20171117T230000
DTSTAMP:20260423T180037
CREATED:20171003T163318Z
LAST-MODIFIED:20171003T163318Z
UID:256-1510941600-1510959600@ripleyohiowc.com
SUMMARY:Trivia Night! November 17
DESCRIPTION:Join the Ripley Women’s Club for a fun night of trivia. Prizes will be awarded !
URL:https://ripleyohiowc.com/event/trivia-night-november-17/
LOCATION:Sunset Bar\, 5656 US-52\,\, Ripley\, OH\, 45167\, United States
ORGANIZER;CN="":MAILTO:lisa.haitz@uc.edu
END:VEVENT
END:VCALENDAR